BEGIN:VCALENDAR
VERSION:2.0
PRODID:-//Le Bec en l&#039;air - ECPv6.15.17.1//NONSGML v1.0//EN
CALSCALE:GREGORIAN
METHOD:PUBLISH
X-ORIGINAL-URL:https://www.becair.com
X-WR-CALDESC:Évènements pour Le Bec en l&#039;air
REFRESH-INTERVAL;VALUE=DURATION:PT1H
X-Robots-Tag:noindex
X-PUBLISHED-TTL:PT1H
BEGIN:VTIMEZONE
TZID:Europe/Paris
BEGIN:DAYLIGHT
TZOFFSETFROM:+0100
TZOFFSETTO:+0200
TZNAME:CEST
DTSTART:20130331T010000
END:DAYLIGHT
BEGIN:STANDARD
TZOFFSETFROM:+0200
TZOFFSETTO:+0100
TZNAME:CET
DTSTART:20131027T010000
END:STANDARD
BEGIN:DAYLIGHT
TZOFFSETFROM:+0100
TZOFFSETTO:+0200
TZNAME:CEST
DTSTART:20140330T010000
END:DAYLIGHT
BEGIN:STANDARD
TZOFFSETFROM:+0200
TZOFFSETTO:+0100
TZNAME:CET
DTSTART:20141026T010000
END:STANDARD
BEGIN:DAYLIGHT
TZOFFSETFROM:+0100
TZOFFSETTO:+0200
TZNAME:CEST
DTSTART:20150329T010000
END:DAYLIGHT
BEGIN:STANDARD
TZOFFSETFROM:+0200
TZOFFSETTO:+0100
TZNAME:CET
DTSTART:20151025T010000
END:STANDARD
BEGIN:DAYLIGHT
TZOFFSETFROM:+0100
TZOFFSETTO:+0200
TZNAME:CEST
DTSTART:20160327T010000
END:DAYLIGHT
BEGIN:STANDARD
TZOFFSETFROM:+0200
TZOFFSETTO:+0100
TZNAME:CET
DTSTART:20161030T010000
END:STANDARD
END:VTIMEZONE
BEGIN:VEVENT
DTSTART;VALUE=DATE:20150402
DTEND;VALUE=DATE:20150508
DTSTAMP:20260421T200558
CREATED:20150118T094835Z
LAST-MODIFIED:20150118T094835Z
UID:2320-1427932800-1431043199@www.becair.com
SUMMARY:Brumes à venir I Exposition au Leica Store de Lille
DESCRIPTION:Le Leica Store de Lille expose les photographies de Frédéric Lecloux extraites du livre Brumes à venir (Le Bec en l’air\, 2012) du jeudi 2 avril au jeudi 7 mai 2015. Ce sera également l’occasion de découvrir  pour la première fois\, sous la forme d’une projection\, l’intégralité de sa série « Marthe » dont font partie les images du livre Le Simulacre du printemps (coll. Collatéral\, Le Bec en l’air\, 2008\, avec un texte d’Ingrid Thobois).\nVernissage jeudi 2 avril à 19h.\nBrumes à venir est en vente au Leica Store.
URL:https://www.becair.com/event/brumes-a-venir-i-exposition-au-leica-store-de-lille/
LOCATION:Leica Store Lille\, 10 rue de la Monnaie\, Lille\, 59000\, France
CATEGORIES:Exposition
ATTACH;FMTTYPE=image/jpeg:https://www.becair.com/wp-content/uploads/2014/07/BRUM-img4-e1406728294850-1.jpg
END:VEVENT
BEGIN:VEVENT
DTSTART;VALUE=DATE:20150325
DTEND;VALUE=DATE:20150517
DTSTAMP:20260421T200558
CREATED:20141030T131218Z
LAST-MODIFIED:20141030T131218Z
UID:2064-1427241600-1431820799@www.becair.com
SUMMARY:Exposition Solovki I Grenoble
DESCRIPTION:Jusqu’au 16 mai\, Jean-Luc Bertini expose ses photographies extraites du livre Solovki\, la bibliothèque perdue à la Bibliothèque du centre ville de Grenoble. Avec des textes d’Olivier Rolin. \nDans le cadre du Printemps du livre de Grenoble\, vernissage de l’exposition en présence de Jean-Luc Bertini le 25 mars à 18h\, suivis d’une projection du film d’Elisabeth Kapnist et Olivier Rolin\, Solovki\, la bibliothèque disparue.
URL:https://www.becair.com/event/le-printemps-du-livre-de-grenoble/
LOCATION:Bibliothèque Centre-Ville\, 10\, rue de la République\, Grenoble\, 38000
CATEGORIES:Exposition
ATTACH;FMTTYPE=image/jpeg:https://www.becair.com/wp-content/uploads/2014/10/SOLO-img3-1.jpg
END:VEVENT
BEGIN:VEVENT
DTSTART;VALUE=DATE:20150307
DTEND;VALUE=DATE:20150831
DTSTAMP:20260421T200558
CREATED:20150203T175325Z
LAST-MODIFIED:20150203T175325Z
UID:2059-1425686400-1440979199@www.becair.com
SUMMARY:Denis Dailleux I Mac Val
DESCRIPTION:Denis Dailleux expose des photographies de la série « Mères et fils » au Mac Val\, dans le cadre de l’exposition Chercher le garçon. \nQu’est ce qui définit la masculinité aujourd’hui ? Et comment proposer des alternatives à la figure du mâle dominant dans la société patriarcale ?\nPour répondre à ces questions\, le commissaire Frank Lamy invite plus de cent artistes hommes\, autant de pistes de réflexion autour des modèles culturels de la représentation masculine… De quoi faire tomber certaines idées reçues\, aussi tenaces que fragiles. De l’acception de soi et des autres. \nMAC VAL (Musée d’art contemporain du Val-de-Marne)\nExposition collective du 7 mars au 30 août \n  \n  \n 
URL:https://www.becair.com/event/denis-dailleux-i-mac-val/
LOCATION:MAC VAL\, Place de la Libération\, Vitry-sur-Seine\, 94
CATEGORIES:Exposition
ATTACH;FMTTYPE=image/jpeg:https://www.becair.com/wp-content/uploads/2014/09/DAIL-1-1.jpg
END:VEVENT
BEGIN:VEVENT
DTSTART;VALUE=DATE:20150108
DTEND;VALUE=DATE:20150208
DTSTAMP:20260421T200558
CREATED:20150105T145607Z
LAST-MODIFIED:20150105T145607Z
UID:1654-1420675200-1423353599@www.becair.com
SUMMARY:Léa Habourdin I La Photographie_Maison Blanche
DESCRIPTION:Léa Habourdin est à l’honneur à travers deux expositions\, l’une à Marseille\, l’autre au BAL à Paris. \nA Marseille\, La Photographie_Maison Blanche a été créée en 2011. Au cœur du projet\, deux axes forts :  la découverte de jeunes talents avec le Prix Maison_Blanche  et la mise en lumière de photographes majeurs de la photographie contemporaine (Martin Parr\, Bernd & Hilla Becher\, Robert Frank\, Stephen Shore…). \nLe prix 2014 a été décerné à Léa Habourdin et nous nous associons à La Photographie_Maison Blanche pour publier son travail\,  Les Chiens de fusil \, dans un livre qui est le premier titre d’une collection coéditée avec le festival. \nLéa Habourdin est aussi lauréate\, avec Thibault Brunet\, de la carte blanche PMU-LE BAL 2014 avec un travail intitulé Les Immobiles. \nEn ce début d’année\, cette jeune artiste que nous sommes heureux d’accompagner est donc exposée : \n\nà Marseille\, à la Galerie Mad (galerie de l’École supérieure d’art et de design de Marseille)\, du 8 janvier au 7 février 2015 – 30 bis boulevard Chave\, 13005 Marseille.\nà Paris\, au BAL\, du 14 au 25 janvier 2015 – LE BAL\, 6 impasse de la Défense\, 75018 Paris\n\n 
URL:https://www.becair.com/event/la-photographie_maison-blanche/
LOCATION:Galerie MAD\, 30 bis boulevard Chave\, Marseille\, 13005
CATEGORIES:Exposition
ATTACH;FMTTYPE=image/jpeg:https://www.becair.com/wp-content/uploads/2014/09/even1-1.jpg
END:VEVENT
BEGIN:VEVENT
DTSTART;VALUE=DATE:20141110
DTEND;VALUE=DATE:20141201
DTSTAMP:20260421T200558
CREATED:20140708T120448Z
LAST-MODIFIED:20140708T120448Z
UID:370-1415577600-1417391999@www.becair.com
SUMMARY:Bruno Boudjelal au Mois de la photo
DESCRIPTION:Dans le cadre du Mois de la photo à Paris\, la galerie du Pont-Neuf expose le travail ‘Détours-retour’ de Bruno Boudjelal du 10 au 30 novembre 2014. Ces photographies feront aussi l’objet du livre Algérie\, clos comme on ferme un livre ? à paraître au Bec en l’air prochainement.\nouvert du mardi au dimanche de 14h30 à 19h
URL:https://www.becair.com/event/detours-retour-une-exposition-de-bruno-boudjelal-au-mois-de-la-photo/
LOCATION:Galerie du Pont-Neuf\, 23 place Dauphine\, Paris\, 75001\, France
CATEGORIES:Exposition
END:VEVENT
BEGIN:VEVENT
DTSTART;VALUE=DATE:20141107
DTEND;VALUE=DATE:20150203
DTSTAMP:20260421T200558
CREATED:20140812T155124Z
LAST-MODIFIED:20140812T155124Z
UID:1724-1415318400-1422921599@www.becair.com
SUMMARY:Deux expositions de Denis Brihat
DESCRIPTION:La Maison de la photographie de Toulon propose l’exposition « Denis Brihat\, Éclats d’infini – Photographies 1958-2011 » du 7 novembre 2014 au 24 janvier 2015. Au éditions le Bec en l’air\, Denis Brihat a publié Denis Brihat. Premières années en Provence.\nUne conférence sur l’œuvre de ce grand photographe est programmée samedi 29 novembre à partir de 16h30.\nMaison de la Photographie – rue Nicolas Laugier / place du Globe\, 83000 Toulon\, T. 04 94 93 07 59 \nDu 4 décembre 2014 au 2 février 2015\, Denis Brihat expose également\, dans la galerie Retour de voyage de l’hôtel particulier La Maison sur la Sorgue\, les photographies qu’il a rapportées de son voyage en Inde en 1955. Le vernissage a lieu vendredi 5 décembre à partir de 18h30 en présence de Denis Brihat et des photographes Rémi Michel et Hans Silvester dont le travail est également exposé.\nLa Maison sur la Sorgue – 6 rue Rose Goudard\, 84000 L’Isle-sur-la-Sorgue\, T. 06 87 32 58 68
URL:https://www.becair.com/event/deux-expositions-de-denis-brihat/
LOCATION:Maison de la photographie\, 1 rue Henri Moreau\, Brest\, 29200\, France
CATEGORIES:Exposition
ATTACH;FMTTYPE=image/jpeg:https://www.becair.com/wp-content/uploads/2014/07/BRIA1-1.jpg
END:VEVENT
BEGIN:VEVENT
DTSTART;VALUE=DATE:20141003
DTEND;VALUE=DATE:20150329
DTSTAMP:20260421T200558
CREATED:20140911T155019Z
LAST-MODIFIED:20140911T155019Z
UID:1506-1412294400-1427587199@www.becair.com
SUMMARY:Les Constellations de Franck Pourcel
DESCRIPTION:L’espace muséal du château de Tourrettes-sur-Loup (06) expose la série Constellations de Franck Pourcel en partenariat avec le FRAC PAC du 4 octobre au 28 mars 2015. \nUne deuxième exposition\, qui complète la première\, a lieu non loin de là\, au centre culturel La Coupole de La Gaude (06)\, jusqu’au 3 novembre 2014. \nLes constellations de Franck Pourcel ont fait l’objet d’un livre au Bec en l’air\, Ulysse ou les constellations. \nBerceau des récits fondateurs de nombreuses civilisations\, la Méditerranée condense sur un espace limité\, cerné\, dominé par ses rivages et bordé par trois continents\, Afrique\, Asie et Europe\, des récits où se sont nouées les aventures humaines importantes\, faisant naître mythes et légendes. Des récits qui ont participé à donner à la Méditerranée une place à part dans l’univers des hommes et des dieux.\nFranck Pourcel explore depuis de nombreuses années un paysage méditerranéen renouvelé\, en interrogeant sa modernité où se confrontent immuabilité et changement. Il élabore avec la Méditerranée une nouvelle géographie plus humaine\, plus sensible et personnelle.\nCette géographie réinventée prend la forme de treize constellations que Franck Pourcel a finalisées en 2013. La constellation d’Ulysse constitue le fil d’Ariane. Les autres constellations en sont la déclinaison et traduisent des thématiques contemporaines. Pour cette exposition\, l’artiste donne à voir une nouvelle approche de son travail à travers un dispositif invitant le spectateur à déambuler entre les images.
URL:https://www.becair.com/event/constellations-de-franck-pourcel/
LOCATION:Château de Tourrettes-sur-Loup\, Place Maximin Escalier\, Tourrettes-sur-Loup\, 06140
CATEGORIES:Exposition
ATTACH;FMTTYPE=:
END:VEVENT
BEGIN:VEVENT
DTSTART;VALUE=DATE:20141001
DTEND;VALUE=DATE:20141101
DTSTAMP:20260421T200558
CREATED:20140830T153347Z
LAST-MODIFIED:20140830T153347Z
UID:1504-1412121600-1414799999@www.becair.com
SUMMARY:“Marseille\, ville portuaire” au festival Les Littorales
DESCRIPTION:Rencontre au musée d’Histoire (2 rue Henri-Barbusse\, 13001 Marseille) >> samedi 11 octobre\, 15h\, Marseille\nLe festival Les Littorales propose\, samedi 11 octobre dès 15h\, à l’auditorium du musée d’Histoire de Marseille\, une rencontre\navec le photographe Patrick Box et Dominique Samanni autour du livre Marseille\, ville portuaire\, paru cette année aux éditions Le Bec en l’air.\nEntrée libre\, dans la limite des places disponibles. \nRencontre à la MMSH >> 8 octobre\, 14h30\, Aix-en-Provence\nJean Domenichino et Patrick Box sont invités par la Maison méditerranéenne des sciences de l’homme (MMSH\, 5 rue du Château de l’Horloge\, BP 647\, 13094 Aix-en-Provence\, salle 211) mercredi 8 octobre de 14h30 à 16h pour participer au groupe de travail « D’une rive l’autre : les économies méditerranéennes et leurs mondes de l’époque moderne à nos jours ». \nExposition des photographies à La Samaritaine >> 1er au 31 octobre 2014\, Marseille\nLes photographies du livre seront par ailleurs exposées à La Samaritaine (2 quai du Port\, 13001 Marseille) durant le mois d’octobre 2014.\nLe vernissage aura lieu vendredi 10 à partir de 18h30. \nFestival Les Littorales >> 7 au 12 octobre 2014\, Marseille\nRetrouvez le programme complet de la manifestation sur le site des libraires indépendants de Marseille (lien ci-dessous).
URL:https://www.becair.com/event/1504/
LOCATION:Musée d’Histoire\, 2 rue Henri-Barbusse\, Marseille\, 13001
CATEGORIES:Exposition,Rencontre
ATTACH;FMTTYPE=image/jpeg:https://www.becair.com/wp-content/uploads/2014/08/PBOX3-1.jpg
END:VEVENT
BEGIN:VEVENT
DTSTART;VALUE=DATE:20140918
DTEND;VALUE=DATE:20141101
DTSTAMP:20260421T200558
CREATED:20140916T091539Z
LAST-MODIFIED:20140916T091539Z
UID:1269-1410998400-1414799999@www.becair.com
SUMMARY:“Égypte\, les martyrs de la révolution” à l’Artothèque de Grenoble
DESCRIPTION:Du 18 septembre au 31 octobre 2014\, exposition “Égypte\, les martyrs de la révolution” de Denis Dailleux à l’Artothèque municipale de Grenoble\, en partenariat avec la galerie Camera Obscura.\nVernissage le jeudi 18 septembre 2014 à 18h30\, en présence du photographe et avec la lecture des textes de Mahmoud Farag et d’Abdellah Taïa extraits du livre Égypte\, les martyrs de la révolution.
URL:https://www.becair.com/event/egypte-les-martyrs-de-la-revolution-a-lartotheque-de-grenoble/
LOCATION:Arthotèque municipale\, 202\, Grand Place\, Grenoble\, 38100\, France
CATEGORIES:Exposition
ATTACH;FMTTYPE=:
END:VEVENT
END:VCALENDAR